BEGIN:VCALENDAR
VERSION:2.0
PRODID:-//Every Note Counts Music Program - ECPv6.7.0//NONSGML v1.0//EN
CALSCALE:GREGORIAN
METHOD:PUBLISH
X-WR-CALNAME:Every Note Counts Music Program
X-ORIGINAL-URL:https://www.everynotecounts.org/wp
X-WR-CALDESC:Events for Every Note Counts Music Program
REFRESH-INTERVAL;VALUE=DURATION:PT1H
X-Robots-Tag:noindex
X-PUBLISHED-TTL:PT1H
BEGIN:VTIMEZONE
TZID:America/New_York
BEGIN:DAYLIGHT
TZOFFSETFROM:-0500
TZOFFSETTO:-0400
TZNAME:EDT
DTSTART:20250309T070000
END:DAYLIGHT
BEGIN:STANDARD
TZOFFSETFROM:-0400
TZOFFSETTO:-0500
TZNAME:EST
DTSTART:20251102T060000
END:STANDARD
END:VTIMEZONE
BEGIN:VEVENT
DTSTART;TZID=America/New_York:20251214T150000
DTEND;TZID=America/New_York:20251214T160000
DTSTAMP:20260422T185427
CREATED:20251105T185516Z
LAST-MODIFIED:20251106T183346Z
UID:549-1765724400-1765728000@www.everynotecounts.org
SUMMARY:2025 Winter Fundraising Concert
DESCRIPTION:🎶 Holiday Fundraiser Concert 🎶Sunday\, December 14th at 3:00 PMMiddlesex Music Academy • 440 Main Street\, Middletown\, CT \nJoin us for an afternoon of holiday cheer and heartwarming music at Every Note Count’s Holiday Fundraiser Concert! \nEnjoy festive performances from Every Note Counts students\, the MMA String Quartet\, board members\, and special guests. \n✨ Tickets: $20 — All proceeds help provide music lessons for local students in need. \nCome celebrate the season\, support a great cause\, and make every note count!
URL:https://www.everynotecounts.org/wp/event/2025-winter-fundraising-concert/
LOCATION:Middlesex Music Academy\, 440 Main Street\, Middletown\, CT\, 06457\, United States
ATTACH;FMTTYPE=image/png:https://www.everynotecounts.org/wp/wp-content/uploads/2024/11/Screenshot-2024-12-06-at-12.50.39 PM.png
END:VEVENT
END:VCALENDAR