BEGIN:VCALENDAR
VERSION:2.0
PRODID:-//Every Note Counts Music Program - ECPv6.7.0//NONSGML v1.0//EN
CALSCALE:GREGORIAN
METHOD:PUBLISH
X-WR-CALNAME:Every Note Counts Music Program
X-ORIGINAL-URL:https://www.everynotecounts.org/wp
X-WR-CALDESC:Events for Every Note Counts Music Program
REFRESH-INTERVAL;VALUE=DURATION:PT1H
X-Robots-Tag:noindex
X-PUBLISHED-TTL:PT1H
BEGIN:VTIMEZONE
TZID:America/New_York
BEGIN:DAYLIGHT
TZOFFSETFROM:-0500
TZOFFSETTO:-0400
TZNAME:EDT
DTSTART:20240310T070000
END:DAYLIGHT
BEGIN:STANDARD
TZOFFSETFROM:-0400
TZOFFSETTO:-0500
TZNAME:EST
DTSTART:20241103T060000
END:STANDARD
END:VTIMEZONE
BEGIN:VEVENT
DTSTART;TZID=America/New_York:20241215T160000
DTEND;TZID=America/New_York:20241215T173000
DTSTAMP:20260422T175714
CREATED:20241118T190115Z
LAST-MODIFIED:20241206T175429Z
UID:477-1734278400-1734283800@www.everynotecounts.org
SUMMARY:2024 Winter Fundraiser
DESCRIPTION:Join us on Sunday\, December 15th\, 4pm at Middlesex Music Academy (440 Main Street\, Middletown\, CT) for a Holiday Fundraiser Concert benefiting Every Note Counts. You’ll enjoy performances from Every Note Counts students\, the Middlesex Music Academy string quartet\, local singer/songwriter James Cookson\, our board members\, and more. Tickets are $50 and all proceeds will go towards funding music lessons for our students.
URL:https://www.everynotecounts.org/wp/event/2024-winter-fundraiser/
LOCATION:Middlesex Music Academy\, 440 Main Street\, Middletown\, CT\, 06457\, United States
ATTACH;FMTTYPE=image/png:https://www.everynotecounts.org/wp/wp-content/uploads/2024/11/Screenshot-2024-12-06-at-12.50.39 PM.png
END:VEVENT
END:VCALENDAR